BEGIN:VCALENDAR
VERSION:2.0
PRODID:-//Spirit Jóga és Fitness - ECPv6.15.11//NONSGML v1.0//EN
CALSCALE:GREGORIAN
METHOD:PUBLISH
X-WR-CALNAME:Spirit Jóga és Fitness
X-ORIGINAL-URL:https://spiritgodollo.hu
X-WR-CALDESC:Események Spirit Jóga és Fitness
REFRESH-INTERVAL;VALUE=DURATION:PT1H
X-Robots-Tag:noindex
X-PUBLISHED-TTL:PT1H
BEGIN:VTIMEZONE
TZID:Europe/Budapest
BEGIN:DAYLIGHT
TZOFFSETFROM:+0100
TZOFFSETTO:+0200
TZNAME:CEST
DTSTART:20240331T010000
END:DAYLIGHT
BEGIN:STANDARD
TZOFFSETFROM:+0200
TZOFFSETTO:+0100
TZNAME:CET
DTSTART:20241027T010000
END:STANDARD
BEGIN:DAYLIGHT
TZOFFSETFROM:+0100
TZOFFSETTO:+0200
TZNAME:CEST
DTSTART:20250330T010000
END:DAYLIGHT
BEGIN:STANDARD
TZOFFSETFROM:+0200
TZOFFSETTO:+0100
TZNAME:CET
DTSTART:20251026T010000
END:STANDARD
BEGIN:DAYLIGHT
TZOFFSETFROM:+0100
TZOFFSETTO:+0200
TZNAME:CEST
DTSTART:20260329T010000
END:DAYLIGHT
BEGIN:STANDARD
TZOFFSETFROM:+0200
TZOFFSETTO:+0100
TZNAME:CET
DTSTART:20261025T010000
END:STANDARD
END:VTIMEZONE
BEGIN:VEVENT
DTSTART;TZID=Europe/Budapest:20250501T150000
DTEND;TZID=Europe/Budapest:20250504T110000
DTSTAMP:20260425T060817
CREATED:20250217T093330Z
LAST-MODIFIED:20250217T093330Z
UID:2089-1746111600-1746356400@spiritgodollo.hu
SUMMARY:Spirit Tavaszi Jógatábor
DESCRIPTION:Ébreszd fel az energiád és kapcsolódj a szíveddel!Engedd el a hétköznapi problémákat. Töltődj fel és kapcsolódj a belső fényeddel. Ragyogj és sugározd ki magadból az élet örömét! Kapcsold össze az erőd és az intelligenciád a szíveddel és engedd hogy a szíved irányítson.\nCsatlakozz hozzánk\, hogy visszanyerd a fényedet és hogy újra ráérezz az élet örömére!\n\nSPIRIT JÓGATÁBOR ** Időpont: MÁJUS 1-4** ** Helyszín: Natura Valley FARKASKÚTVÖLGY – Hollokő** ** Szállás: RÖNKHÁZAKban – 4 fős apartman 2-2 ágyas\, különálló szobáiban. (Az apartmanban nappali\, konyha\, fürdőszoba és 2 WC található)**\n ** Étkezés: napi 3x-i csodás vegán étrend\, melyet Horváth-Szováti György Élettájoló -nak köszönhetünk** ** Táborvezető: Csontos Rita (Hatha Jógaoktató\, Gerincjóga oktató\, Kundalini Jógaoktató\, Breathwork Facilitátor\, Kundalini Activation Facilitátor)**\n\nJelentkezés és további információ csontos.rita@gmail.com vagy spirit@spiritgodollo.hu\n\nVonulj el pár napra a feladatok elől. Kapcsolj ki és építs új utat a kreatív energiádhoz.Kapcsolódj a lelked küldetéséhez!A Farkaskútvölgy festői környezetében egy olyan békés és harmonikus teret teremtünk\, melyben könnyedén\, gondolatoktól és félelmektől mentesen tudsz újra kapcsolódni a legbelső esszenciádhoz.Érezni fogod a kapcsolódást\, mely újult erővel\, békével és energiával fog feltölteni.Hagyd hátra a bonyodalmakat és csak engedd\, hogy történjen!\n\n Programok ** Hajnali jóga és meditáció a felkelő nap fényében** Silence Walking** Breathwork – transzformatív légző gyakorlatok** Kundalini Jóga** Energia Aktiválás – a saját belső energiád aktiválása\n\nÁR: Early bird jegyek március 20-ig – 95.000 Ft/fő Március 20 után – 105.000 Ft/fő\n\nAz ár tartalmazza:A szállást\, étkezést és az összes meghirdetett programot.\n\n Jelentkezés  csontos.rita@gmail.com vagy spirit@spiritgodollo.hu\n\n„A gyógyulás forrása Te magad vagy. A gyógyszered a rezgés. A tapasztalat a tanítód.”pi villaraza
URL:https://spiritgodollo.hu/esemeny/spirit-tavaszi-jogatabor/
CATEGORIES:Jógatábor
ATTACH;FMTTYPE=image/png:https://spiritgodollo.hu/wp-content/uploads/2025/02/2024-November-8-10-4.png
ORGANIZER;CN="Csontos Rita Preet Nishan":MAILTO:csontos.rita@gmail.com
END:VEVENT
BEGIN:VEVENT
DTSTART;TZID=Europe/Budapest:20250511T080000
DTEND;TZID=Europe/Budapest:20250511T100000
DTSTAMP:20260425T060817
CREATED:20250507T134511Z
LAST-MODIFIED:20250507T135604Z
UID:2117-1746950400-1746957600@spiritgodollo.hu
SUMMARY:
DESCRIPTION: 108 Napüdvözlet – Egy különleges reggel a testnek és léleknek\nCsatlakozz hozzánk május 11-én\, vasárnap reggel 8.00 órakor a Spirit Jóga és Fitness stúdióban (Dózsa György út 35)\, és tapasztald meg a 108 napüdvözlet varázsát!\n\n Miért éppen 108?a 108-as szám a jógikus tradíciókban szent jelentéssel bír\, szimbolizálja a teljességet\, az univerzumot és a spirituális egységet.Például:– a Nap és a Föld közötti távolság 108-szorosa a Nap átmérőjének.– 108 energia csatorna (nadi) kapcsolódik a szívcsakrához.\n\n Miért Napüdvözlet?A Surya Namaskar\, azaz a Napüdvözlet\, a Nap energiájának tiszteletére végzett gyakorlatsor. A Napot az élet forrásának tekintik\, így ez a gyakorlat az energia és hála kifejezése.\n\n Mit Kínálunk?– Egy varázslatos zenei aláfestést\, amely a légzés ritmusával tökéletes harmóniában vezet végi a gyakorlatokon.– Katica\, tapasztalt okatónk vezetésével mélyítheted el a jóga iránti szeretetedet.\nMiért érdemes csatlakoznod?– Ez a mozgásforma erősíti a tested\, javítja a rugalamsságod\, és segít a belső harmónia megteremtésében.– Segít a koncentrációban\, csökkenti a stresszt és növeli a belső békét.– Töltsd fel magad pozítiv energiával egy támogató közösségben.\n\n Időpont: 2025. Május 11. vasárnap 8.00 – 10.00 Helyszín: Spirit Jóga és Fitness\, Gödöllő\, Dózsa György út 35. Oktató: Katica Részvételi díj: 4.000 ft/fő\n\nAz eseményre előzetes bejelentkezés szükséges! +36 70 674 0264 spirit@spiritgodollo.hu www.spiritgodollo.hu\n\nCsatlakozz hozzánk\, és töltsd meg napodat fénnyel és békével!
URL:https://spiritgodollo.hu/esemeny/2117/
LOCATION:Spirit Jóga és Fitness Stúdió\, Dózsa György út 35. emelet\, Gödöllő
CATEGORIES:Workshop
ATTACH;FMTTYPE=image/png:https://spiritgodollo.hu/wp-content/uploads/2025/05/108-napudvozlet.png
END:VEVENT
BEGIN:VEVENT
DTSTART;TZID=Europe/Budapest:20250525T090000
DTEND;TZID=Europe/Budapest:20250525T110000
DTSTAMP:20260425T060817
CREATED:20250507T135109Z
LAST-MODIFIED:20250507T135109Z
UID:2122-1748163600-1748170800@spiritgodollo.hu
SUMMARY:
DESCRIPTION: Energia Aktiválás – Engedd felszabadulni a belső energiádat! \n \nSzeretettel ajánlom figyelmedbe májusi programomat\, melyben egy rövid pár perces\, breathworkot követően a bennünk lévő végtelen energiára helyezzük a hangsúlyt. \n \nA hangok szárnyán utazva csak engedned kell\, hogy az energiád\, egyesülve a határtalan tér energiájával megmutatkozzon benned és kitisztítson minden akadályt ahhoz\, hogy teljesnek\, örömtelinek és könnyűnek érezd magad!\n \nKülönleges esemény\, ahol lehetőségetek lesz megtapasztalni a Kundalini energia erejét és áramlását. Ez az intenzív\, mégis gyengéd folyamat segít felszabadítani a bennünk rejlő potenciált\, és mélyebb kapcsolatot teremteni önmagunkkal.\n \nMi vár Rád az Energia Aktiválás során?\n Mély relaxáció és belső harmónia.\n Az energiaáramlás fokozása a testben.\n Érzelmi felszabadulás és tisztulás.\n Egyedülálló élmény\, amely támogatja a spirituális fejlődést.\n \n Átalános hatásai:érzelmi elengedések\, megkönnyebülés\, negatív gondolatok felülírása\, utazás egy másik dimenzióba\, felismerések\, energetizálás\, lelki és akár fizikai gyógyulás\n \n Időpont: Május 25. vasárnap 9.00 – 11.00Helyszín: Spirit Jóga és Fitness Stúdió\, Gödöllő\, Dózsa György út 35. Ár: 10.000 Ft/fő Jelentkezés és további információ: Csontos Rita +36 70 674 0264 csontos.rita@gmail.comhttps://fb.me/e/3eRFJ7bdp\n \nFontos! Az eseményen való részvételhez előzetes jelentkezés szükséges.\n Engedd\, hogy a Kundalini energia megtalálja az útját\, és tapasztald meg a belső átalakulást!
URL:https://spiritgodollo.hu/esemeny/2122/
LOCATION:Spirit Jóga és Fitness Stúdió\, Dózsa György út 35. emelet\, Gödöllő
CATEGORIES:Workshop
ATTACH;FMTTYPE=image/png:https://spiritgodollo.hu/wp-content/uploads/2025/05/energia-aktivalas.png
ORGANIZER;CN="Csontos Rita Preet Nishan":MAILTO:csontos.rita@gmail.com
END:VEVENT
END:VCALENDAR